BEGIN:VCALENDAR
VERSION:2.0
PRODID:-//Food by Fanta - ECPv6.15.17.1//NONSGML v1.0//EN
CALSCALE:GREGORIAN
METHOD:PUBLISH
X-ORIGINAL-URL:https://foodbyfanta.com
X-WR-CALDESC:Events for Food by Fanta
REFRESH-INTERVAL;VALUE=DURATION:PT1H
X-Robots-Tag:noindex
X-PUBLISHED-TTL:PT1H
BEGIN:VTIMEZONE
TZID:America/Vancouver
BEGIN:DAYLIGHT
TZOFFSETFROM:-0800
TZOFFSETTO:-0700
TZNAME:PDT
DTSTART:20250309T100000
END:DAYLIGHT
BEGIN:STANDARD
TZOFFSETFROM:-0700
TZOFFSETTO:-0800
TZNAME:PST
DTSTART:20251102T090000
END:STANDARD
BEGIN:DAYLIGHT
TZOFFSETFROM:-0800
TZOFFSETTO:-0700
TZNAME:PDT
DTSTART:20260308T100000
END:DAYLIGHT
BEGIN:STANDARD
TZOFFSETFROM:-0700
TZOFFSETTO:-0800
TZNAME:PST
DTSTART:20261101T090000
END:STANDARD
BEGIN:DAYLIGHT
TZOFFSETFROM:-0800
TZOFFSETTO:-0700
TZNAME:PDT
DTSTART:20270314T100000
END:DAYLIGHT
BEGIN:STANDARD
TZOFFSETFROM:-0700
TZOFFSETTO:-0800
TZNAME:PST
DTSTART:20271107T090000
END:STANDARD
END:VTIMEZONE
BEGIN:VEVENT
DTSTART;TZID=America/Vancouver:20260614T170000
DTEND;TZID=America/Vancouver:20260614T200000
DTSTAMP:20260424T012753
CREATED:20260306T081436Z
LAST-MODIFIED:20260306T081619Z
UID:10000071-1781456400-1781467200@foodbyfanta.com
SUMMARY:Thai Street Food Favourites
DESCRIPTION:Cook the Bold Flavours of Thailand’s Most Famous Dishes \n\n\n\nJoin us for a class inspired by Thailand’s vibrant street food culture. You’ll learn how to make two of the country’s most iconic dishes\, known for their bold flavours and satisfying simplicity. \n\n\n\nFrom the bright heat of papaya salad to the aromatic punch of basil stir-fry\, these dishes capture the heart of Thai street cooking. \n\n\n\nLimited to 14 people per class. \n\n\n\n \n\n\n\nMenu\n\n\n\nSom Tam (Thai Papaya Salad – ส้มตำ) – A lively and refreshing salad made with shredded green papaya\, lime\, fish sauce\, chillies\, and palm sugar. \n\n\n\nPad Kra-Pao (Thai Basil Stir-Fry – ข้าวผัดกะเพรา) – A bold and savoury stir-fry made with minced meat\, garlic\, chillies\, and fragrant Thai basil. \n\n\n\nMango Sticky Rice (ข้าวเหนียวมะม่วง) – Sweet coconut sticky rice served with ripe mango and coconut cream. \n\n\n\n \n\n\n\nDate Time\n\n\n\nSunday\, June 14th\, 2026\, 5:00 PM – 8:00 PM \n\n\n\n(Doors open 15 minutes before class starts) \n\n\n\nLocation\n\n\n\nAcademy Room at Food by Fanta \n\n\n\n107\, 20542 Fraser Highway\, Langley\, BC V3A 4G2 \n\n\n\nPhone\n\n\n\nThe best way to reserve your ticket is to book online. Feel free to call us if you are experiencing difficulties at 778.242.1344. \n\n\n\nTerms & Conditions\n\n\n\nCooking class registrations are non-refundable but may be transferred with no fees 2 weeks before the date of the class. A $10 fee will be charged for transfers up to 3 days before the class. A minimum number of registrations is required for the class to proceed. Don’t hesitate to get in touch with us if you have any questions!
URL:https://foodbyfanta.com/event/thai-street-food-favourites/
ATTACH;FMTTYPE=image/jpeg:https://foodbyfanta.com/wp-content/uploads/2026/03/WhatsApp-Image-2026-03-02-at-5.49.34-PM.jpeg
END:VEVENT
END:VCALENDAR